Workbook

Sheet OversiktVeierNeskoll
A1: Neskollen: | B1: Veilengder og fordeling drifts- og vedlikeholdsansvar. | G1: Asfalt | H1: Oljegrus | I1: Grus
A2: Totalt | B2: =SUM(E3:E6) -> 13007.6 | C2: meter vei. | D2: Drifts- og vedlikeholdsansvar | E2: Veilengde | G2: Areal asfalt [m2] | H2: Areal oljegrus [m2] | I2: Areal grus [m2]
D3: Nes kommune | E3: =SUMIFS(Tabell3[Lengde '[m']],Tabell3[Eier/ drifter vei],D3) -> 8037.1 | F3: meter | G3: =SUMIFS(I9:I89,E9:E89,D3,F9:F89,$G$1) -> 15708.85 | H3: =SUMIFS(G9:G89,E9:E89,D3,F9:F89,$H$1) -> 0 | I3: =SUMIFS(I9:I89,E9:E89,D3,F9:F89,$I$1) -> 2259.2
D4: Sameier | E4: =SUMIFS(Tabell3[Lengde '[m']],Tabell3[Eier/ drifter vei],D4) -> 1000.5 | F4: meter | G4: =SUMIFS(I10:I90,E10:E90,D4,F10:F90,$G$1) -> 0 | H4: =SUMIFS(G10:G90,E10:E90,D4,F10:F90,$H$1) -> 0 | I4: =SUMIFS(I10:I90,E10:E90,D4,F10:F90,$I$1) -> 0
D5: Velforeningen | E5: =SUMIFS(Tabell3[Lengde '[m']],Tabell3[Eier/ drifter vei],D5) -> 3970 | F5: meter | G5: =SUMIFS(I10:I90,E10:E90,D5,F10:F90,$G$1) -> 2467.91 | H5: =SUMIFS(G10:G90,E10:E90,D5,F10:F90,$H$1) -> 204.6 | I5: =SUMIFS(I10:I90,E10:E90,D5,F10:F90,$I$1) -> 0
A8: Gate-/veinavn | B8: Fra | C8: Til | D8: Beskrivelse av strekning | E8: Eier/ drifter vei | F8: Dekke | G8: Lengde [m] | H8: Bredde veidekke [m] | I8: Areal [m2] | J8: Etablert/ Asfaltert År
A9: Melkevegen | B9: 1 | C9: Herkulesvn. | D9: Fra FV 477 (Hvamsmovn.) til krysset Herkulesvn. | E9: Nes kommune | F9: Asfalt | G9: 353.2 | H9: 7.5 | I9: =Tabell3[[#This Row],[Lengde '[m']]]*Tabell3[[#This Row],[Bredde veidekke '[m']]] -> 2649 | J9: 1999
A10: Melkevegen | B10: Herkulesvn. | C10: Polaris | D10: Mellom kryssene Herkulesvn. og Polarisvn. | E10: Nes kommune | F10: Asfalt | G10: 179.7 | H10: 7.5 | I10: =Tabell3[[#This Row],[Lengde '[m']]]*Tabell3[[#This Row],[Bredde veidekke '[m']]] -> 1347.75 | J10: 1999
A11: Melkevegen | B11: Polaris. | C11: Orionvn | D11: Mellom kryssene Polarisvn. og Orionvn. | E11: Nes kommune | F11: Asfalt | G11: 158 | H11: 7.5 | I11: =Tabell3[[#This Row],[Lengde '[m']]]*Tabell3[[#This Row],[Bredde veidekke '[m']]] -> 1185 | J11: 1999
A12: Melkevegen | B12: Orionvn. | C12: Geminivn. | D12: Mellom kryssene Orionvn. og Geminivn. | E12: Nes kommune | F12: Asfalt | G12: 189.8 | H12: 7.5 | I12: =Tabell3[[#This Row],[Lengde '[m']]]*Tabell3[[#This Row],[Bredde veidekke '[m']]] -> 1423.5 | J12: 1999
A13: Melkevegen | B13: Geminivn. | C13: Siriusvn. | D13: Mellom kryssene Geminivn. og Siriusvn. | E13: Nes kommune | F13: Asfalt | G13: 62.3 | H13: 7.5 | I13: =Tabell3[[#This Row],[Lengde '[m']]]*Tabell3[[#This Row],[Bredde veidekke '[m']]] -> 467.25 | J13: 1999
A14: Melkevegen | B14: Siriusvn. | C14: Pegasusvn. | D14: Mellom kryssene Siriusvn. og Pegasusvn. | E14: Nes kommune | F14: Asfalt | G14: 282.3 | H14: 7.5 | I14: =Tabell3[[#This Row],[Lengde '[m']]]*Tabell3[[#This Row],[Bredde veidekke '[m']]] -> 2117.25 | J14: 2010
A15: Melkevegen | B15: Pegasusvn. | C15: Jomfrustien | D15: Mellom kryssene Pegasusvn. og Jomfrustien. | E15: Nes kommune | F15: Asfalt | G15: 341.5 | H15: 7.5 | I15: =Tabell3[[#This Row],[Lengde '[m']]]*Tabell3[[#This Row],[Bredde veidekke '[m']]] -> 2561.25 | J15: 2010
A16: Melkevegen | B16: Jomfrustien | C16: Krepsen | D16: Mellom kryssene Jomfrustien og Krepsen. | E16: Nes kommune | F16: Asfalt | G16: 26.3 | H16: 7.5 | I16: =Tabell3[[#This Row],[Lengde '[m']]]*Tabell3[[#This Row],[Bredde veidekke '[m']]] -> 197.25 | J16: 2010
A17: Melkevegen | B17: Krepsen | C17: Enjhørningen | D17: Mellom kryssene Krepsen og Enhjørningen. | E17: Nes kommune | F17: Asfalt | G17: 91.6 | H17: 7.5 | I17: =Tabell3[[#This Row],[Lengde '[m']]]*Tabell3[[#This Row],[Bredde veidekke '[m']]] -> 687 | J17: 2010
A18: Melkevegen | B18: Enhjørningen | C18: Vekta | D18: Mellom kryssene Enhjørningen og Vekta. | E18: Nes kommune | F18: Asfalt | G18: 37.6 | H18: 7.5 | I18: =Tabell3[[#This Row],[Lengde '[m']]]*Tabell3[[#This Row],[Bredde veidekke '[m']]] -> 282 | J18: 2010
A19: Tellusvegen | D19: Fra Melkevn. og til skogbeltet med forbindelse til FV 477 (Hvamsmovn.). | E19: Nes kommune | F19: Asfalt | G19: 248.2 | H19: 5.5 | I19: =Tabell3[[#This Row],[Lengde '[m']]]*Tabell3[[#This Row],[Bredde veidekke '[m']]] -> 1365.1 | J19: 2008
A20: Idrettsplassen | D20: Fra Melkevn. til svingen ved fotballbane innenfor tennisbanen. | E20: Nes kommune | F20: Grus | G20: 261.1 | H20: 3.2 | I20: =Tabell3[[#This Row],[Lengde '[m']]]*Tabell3[[#This Row],[Bredde veidekke '[m']]] -> 835.52 | J20: 2000
A21: Idrettsplassen | D21: Forbi begge fotballbanene i retning mot tjernet. | E21: Nes kommune | F21: Grus | G21: 171.5 | H21: 3.2 | I21: =Tabell3[[#This Row],[Lengde '[m']]]*Tabell3[[#This Row],[Bredde veidekke '[m']]] -> 548.8 | J21: 2000
A22: Idrettsplassen | D22: Langs tjernet og mot/forbi velforeningens balløkke. | E22: Nes kommune | F22: Grus | G22: 130.5 | H22: 3.2 | I22: =Tabell3[[#This Row],[Lengde '[m']]]*Tabell3[[#This Row],[Bredde veidekke '[m']]] -> 417.6 | J22: 2017
A23: Idrettsplassen | D23: Ved Nes Arena. | E23: Nes kommune | F23: Grus | G23: 142.9 | H23: 3.2 | I23: =Tabell3[[#This Row],[Lengde '[m']]]*Tabell3[[#This Row],[Bredde veidekke '[m']]] -> 457.28
A24: Herkulesvegen | B24: 1 | C24: 110 | D24: Hovedstrekket fra Melkevn. og innover. | E24: Nes kommune | F24: Asfalt | G24: 317 | H24: 4.5 | I24: =Tabell3[[#This Row],[Lengde '[m']]]*Tabell3[[#This Row],[Bredde veidekke '[m']]] -> 1426.5 | J24: 1999
A25: Herkulesvegen | B25: 84 | C25: 108 | D25: Innerste stikkvei oppover i lia, inkl. snuhammer. | E25: Velforeningen | F25: Asfalt | G25: 188.3 | H25: 3.7 | I25: =Tabell3[[#This Row],[Lengde '[m']]]*Tabell3[[#This Row],[Bredde veidekke '[m']]] -> 696.71 | J25: 1999
A26: Herkulesvegen | B26: 30 | C26: 76 | D26: Midtre stikkvei oppover i lia, inkl. snuhammer. | E26: Velforeningen | F26: Asfalt | G26: 337.2 | H26: 3.4 | I26: =Tabell3[[#This Row],[Lengde '[m']]]*Tabell3[[#This Row],[Bredde veidekke '[m']]] -> 1146.48 | J26: 1999
A27: Herkulesvegen | B27: 2 | C27: 24 | D27: Første stikkvei nærmest Melkevn., langs denne, mot Orionvn, inkl. snuhammer. | E27: Velforeningen | F27: Asfalt | G27: 164.4 | H27: 3.8 | I27: =Tabell3[[#This Row],[Lengde '[m']]]*Tabell3[[#This Row],[Bredde veidekke '[m']]] -> 624.72 | J27: 1999
A28: Orionvegen | B28: 1 | C28: 100 | D28: Hovedstrekket fra Melkevn. og innover. | E28: Nes kommune | F28: Asfalt | G28: 612.8 | I28: =Tabell3[[#This Row],[Lengde '[m']]]*Tabell3[[#This Row],[Bredde veidekke '[m']]] -> 0 | J28: 1999
A29: Orionvegen | B29: 2 | C29: 20 | D29: Første stikkvei nærmest Melkevn., opp mot Geminivn. | E29: Nes kommune | F29: Asfalt | G29: 102.6 | I29: =Tabell3[[#This Row],[Lengde '[m']]]*Tabell3[[#This Row],[Bredde veidekke '[m']]] -> 0 | J29: 1999
A30: Orionvegen | B30: 8 | C30: 12 | D30: Innerste del av første stikkvei opp mot Geminivegen. | E30: Velforeningen | F30: Asfalt | G30: 19.4 | I30: =Tabell3[[#This Row],[Lengde '[m']]]*Tabell3[[#This Row],[Bredde veidekke '[m']]] -> 0 | J30: 1999
A31: Orionvegen | B31: 22 | C31: 46 | D31: Midtre stikkvei opp mot Geminivn. | E31: Nes kommune | F31: Asfalt | G31: 75.3 | I31: =Tabell3[[#This Row],[Lengde '[m']]]*Tabell3[[#This Row],[Bredde veidekke '[m']]] -> 0 | J31: 1999
A32: Orionvegen | B32: 26 | C32: 40 | D32: Innerst i midtre stikkvei opp mot Geminivn. | E32: Velforeningen | F32: Asfalt | G32: 55.8 | I32: =Tabell3[[#This Row],[Lengde '[m']]]*Tabell3[[#This Row],[Bredde veidekke '[m']]] -> 0 | J32: 1999
A33: Orionvegen | B33: 48 | C33: 70 | D33: Innerste stikkvei opp mot Geminivn. | E33: Nes kommune | F33: Asfalt | G33: 125.5 | I33: =Tabell3[[#This Row],[Lengde '[m']]]*Tabell3[[#This Row],[Bredde veidekke '[m']]] -> 0 | J33: 1999
A34: Orionvegen | B34: 1 | C34: 21 | D34: Første stikkvei fra Melkevn., ned mot Herkulsevn., gjennom Orionvegen sameie. | E34: Sameier | F34: Asfalt | G34: 186.1 | I34: =Tabell3[[#This Row],[Lengde '[m']]]*Tabell3[[#This Row],[Bredde veidekke '[m']]] -> 0 | J34: 1999
A35: Geminivegen | B35: 1 | C35: 104 | D35: Hovedstrekket fra Melkevn. og innover. | E35: Nes kommune | F35: Asfalt | G35: 480 | I35: =Tabell3[[#This Row],[Lengde '[m']]]*Tabell3[[#This Row],[Bredde veidekke '[m']]] -> 0 | J35: 1999
A36: Geminivegen | B36: 86 | C36: 100 | D36: 5. stikkvei opp mot B4/ Pegasusvegen, talt opp fra Melkevn., inn til nr. 88 og nr. 96. | E36: Nes kommune | F36: Asfalt | G36: 59 | I36: =Tabell3[[#This Row],[Lengde '[m']]]*Tabell3[[#This Row],[Bredde veidekke '[m']]] -> 0 | J36: 1999
A37: Geminivegen | B37: 88 | C37: 94 | D37: Innerst i 5. stikkvei opp mot B4/ Pegasusvegen, innenfor nr. 88 og nr. 96. | E37: Velforeningen | F37: Asfalt | G37: 27.5 | I37: =Tabell3[[#This Row],[Lengde '[m']]]*Tabell3[[#This Row],[Bredde veidekke '[m']]] -> 0 | J37: 1999
A38: Geminivegen | B38: 78 | C38: 84 | D38: 4. stikkvei opp mot B4/ Pegasusvegen, talt opp fra Melkevn. | E38: Nes kommune | F38: Asfalt | G38: 76.5 | I38: =Tabell3[[#This Row],[Lengde '[m']]]*Tabell3[[#This Row],[Bredde veidekke '[m']]] -> 0 | J38: 1999
A39: Geminivegen | B39: 46 | C39: 76 | D39: 3. stikkvei opp mot B4/ Pegasusvegen, talt opp fra Melkevn., opp til nr. 50 og nr. 62. | E39: Nes kommune | F39: Asfalt | G39: 112.3 | I39: =Tabell3[[#This Row],[Lengde '[m']]]*Tabell3[[#This Row],[Bredde veidekke '[m']]] -> 0 | J39: 1999
... A42: Geminivegen | B42: 22 | C42: 44 | D42: 2. stikkvei opp mot B4/ Pegasusvegen, talt opp fra Melkevn., til innenfor nr. 36. | E42: Nes kommune | F42: Asfalt | G42: 154 | I42: =Tabell3[[#This Row],[Lengde '[m']]]*Tabell3[[#This Row],[Bredde veidekke '[m']]] -> 0 | J42: 1999
A43: Geminivegen | B43: 30A | C43: 34D | D43: Innerst i 2. stikkvei opp mot B4/ Pegasusvegen, i Orionsvingen sameie. | E43: Sameier | F43: Asfalt | G43: 25.5 | I43: =Tabell3[[#This Row],[Lengde '[m']]]*Tabell3[[#This Row],[Bredde veidekke '[m']]] -> 0
A44: Geminivegen | B44: 10 | C44: 14 | D44: Innerst i første stikkvei opp mot B4/ Kjølen. | E44: Nes kommune | F44: Asfalt | G44: 28.7 | I44: =Tabell3[[#This Row],[Lengde '[m']]]*Tabell3[[#This Row],[Bredde veidekke '[m']]] -> 0 | J44: 1999
...

Sheet Lysoversikt
B7: Vei | C7: Nr. | D7: Type | E7: Etbl. | F7: Ansvar | G7: Lgd. fra koblingsskap [m] | H7: Lgd. til/fra neste/forrige lyktestolpe [m] | I7: Kommentar
B8: Gangvei idrettsanlegg | C8: 1 | D8: Halogen | E8: 2000 | F8: Nesk. velforening
B9: Gangvei idrettsanlegg | C9: 2 | D9: Halogen | E9: 2000 | F9: Nes kommune
B10: Gangvei idrettsanlegg | C10: 3 | D10: Halogen | E10: 2000 | F10: Hvam IL
B11: Gangvei idrettsanlegg | C11: 4 | D11: Halogen | E11: 2000
B12: Gangvei idrettsanlegg | C12: 5 | D12: Halogen | E12: 2000
B13: Gangvei idrettsanlegg | C13: 6 | D13: Halogen | E13: 2000
B14: Gangvei idrettsanlegg | C14: 7 | D14: Halogen | E14: 2000
B15: Gangvei idrettsanlegg | C15: 8 | D15: Halogen | E15: 2000
B16: Gangvei idrettsanlegg | C16: 9 | D16: Halogen | E16: 2000
B17: Gangvei idrettsanlegg | C17: 10 | D17: Halogen | E17: 2000
B18: Gangvei idrettsanlegg | C18: 11 | D18: Halogen | E18: 2000
B19: Gangvei idrettsanlegg | C19: 12 | D19: Halogen | E19: 2000
B20: Gangvei idrettsanlegg | C20: 13 | D20: Halogen | E20: 2000
B21: Gangvei idrettsanlegg | C21: 14 | D21: Halogen | E21: 2000
B22: Gangvei idrettsanlegg | C22: 15 | D22: Halogen | E22: 2000
... B39: Gangvei idrettsanlegg | C39: 32 | D39: Halogen | E39: 2000
B40: Herkulesvegen 84 - 108 | C40: 1 | D40: Halogen | E40: 2000 | F40: Nesk. velforening
B41: Herkulesvegen 84 - 108 | C41: 2 | D41: Halogen | E41: 2000 | F41: Nesk. velforening
B42: Herkulesvegen 84 - 108 | C42: 3 | D42: Halogen | E42: 2000 | F42: Nesk. velforening
B43: Herkulesvegen 84 - 108 | C43: 4 | D43: Halogen | E43: 2000 | F43: Nesk. velforening
B44: Herkulesvegen 84 - 108 | C44: 5 | D44: Halogen | E44: 2000 | F44: Nesk. velforening
B45: Herkulesvegen 84 - 108 | C45: 6 | D45: Halogen | E45: 2000 | F45: Nesk. velforening
B46: Herkulesvegen 84 - 108 | C46: 7 | D46: Halogen | E46: 2000 | F46: Nesk. velforening
B47: Herkulesvegen 84 - 108 | C47: 8 | D47: Halogen | E47: 2000 | F47: Nesk. velforening
B48: Herkulesvegen 84 - 108 | C48: 9 | D48: Halogen | E48: 2000 | F48: Nesk. velforening
B49: Herkulesvegen 30 - 76 | C49: 1 | D49: Halogen | E49: 2000 | F49: Nesk. velforening
B50: Herkulesvegen 30 - 76 | C50: 2 | D50: Halogen | E50: 2000 | F50: Nesk. velforening
B51: Herkulesvegen 30 - 76 | C51: 3 | D51: Halogen | E51: 2000 | F51: Nesk. velforening
... B141: Jomfrustien | C141: 4 | D141: Halogen | E141: 2010 | F141: Nesk. velforening
B142: Enhjørningen | C142: 1 | D142: LED | E142: 2015
B143: Enhjørningen | C143: 2 | D143: LED | E143: 2015
B144: Enhjørningen | C144: 3 | D144: LED | E144: 2015
B145: Enhjørningen | C145: 4 | D145: LED | E145: 2015
B146: Enhjørningen | C146: 5 | D146: LED | E146: 2015
B147: Enhjørningen | C147: 6 | D147: LED | E147: 2015
B148: Enhjørningen | C148: 7 | D148: LED | E148: 2015
B149: Enhjørningen | C149: 8 | D149: LED | E149: 2015
B150: Skytten | C150: 1 | D150: LED | E150: 2015
B151: Skytten | C151: 2 | D151: LED | E151: 2015
...

Sheet Illustrasjoner
C1: Melkevegen, fra FV 477 (Hvamsmovn.) til krysset Herkulesvn. (Klikk på illustrasjonen for å komme tilbake til aktuell oversikt).
C2: Melkevegen, mellom kryssene Herkulesvn. og Polarisvn. (Klikk på illustrasjonen for å komme tilbake til aktuell oversikt).
C3: Melkevegne, mellom kryssene Polarisvn. og Orionvn. (Klikk på illustrasjonen for å komme tilbake til aktuell oversikt).
C4: Melkevegen, mellom kryssene Orionvn. og Geminivn. (Klikk på illustrasjonen for å komme tilbake til aktuell oversikt).
C5: Melkevegen, mellom kryssene Geminivn. og Siriusvn. (Klikk på illustrasjonen for å komme tilbake til aktuell oversikt).
C6: Melkevegen, mellom kryssene Siriusvn. og Pegasusvn. (Klikk på illustrasjonen for å komme tilbake til aktuell oversikt).
C7: Melkevegen, mellom kryssene Pegasusvn. og Jomfrustien. (Klikk på illustrasjonen for å komme tilbake til aktuell oversikt).
C8: Melkevegen, mellom kryssene Jomfrustien og Krepsen.. (Klikk på illustrasjonen for å komme tilbake til aktuell oversikt).
C9: Melkevegen, mellom kryssene Krepsen og Enhjørningen.. (Klikk på illustrasjonen for å komme tilbake til aktuell oversikt).
C10: Melkevegen, mellom kryssene Enhjørningen og Vekta.. (Klikk på illustrasjonen for å komme tilbake til aktuell oversikt).
C11: Tellusvegen, fra Melkevn. og til skogbeltet med forbindelse til FV 477 (Hvamsmovn.).. (Klikk på illustrasjonen for å komme tilbake til aktuell oversikt).
C12: Idrettsplassen, fra Melkevn. til svingen ved fotballbane innenfor tennisbanen.. (Klikk på illustrasjonen for å komme tilbake til aktuell oversikt).
... C79: Polarisvegen 2 - 6, innerst i første stikkvei ned mot Hvamsmovegen, i Neskollen Sameie 2.. (Klikk på illustrasjonen for å komme tilbake til aktuell oversikt).
