Workbook

Sheet OversiktVeierNeskoll
A1: Neskollen: | B1: Veilengder og fordeling drifts- og vedlikeholdsansvar. | G1: Asfalt | H1: Oljegrus | I1: Grus
A2: Totalt | B2: =SUM(E3:E6) -> 13007.6 | C2: meter vei. | D2: Drifts- og vedlikeholdsansvar | E2: Veilengde | G2: Areal asfalt [m2] | H2: Areal oljegrus [m2] | I2: Areal grus [m2]
D3: Nes kommune | E3: =SUMIFS(Tabell3[Lengde '[m']],Tabell3[Eier/ drifter vei],D3) -> 8037.1 | F3: meter | G3: =SUMIFS(I9:I89,E9:E89,D3,F9:F89,$G$1) -> 15708.85 | H3: =SUMIFS(G9:G89,E9:E89,D3,F9:F89,$H$1) -> 0 | I3: =SUMIFS(I9:I89,E9:E89,D3,F9:F89,$I$1) -> 2259.2
D4: Sameier | E4: =SUMIFS(Tabell3[Lengde '[m']],Tabell3[Eier/ drifter vei],D4) -> 1000.5 | F4: meter | G4: =SUMIFS(I10:I90,E10:E90,D4,F10:F90,$G$1) -> 0 | H4: =SUMIFS(G10:G90,E10:E90,D4,F10:F90,$H$1) -> 0 | I4: =SUMIFS(I10:I90,E10:E90,D4,F10:F90,$I$1) -> 0
D5: Velforeningen | E5: =SUMIFS(Tabell3[Lengde '[m']],Tabell3[Eier/ drifter vei],D5) -> 3970 | F5: meter | G5: =SUMIFS(I10:I90,E10:E90,D5,F10:F90,$G$1) -> 2467.91 | H5: =SUMIFS(G10:G90,E10:E90,D5,F10:F90,$H$1) -> 204.6 | I5: =SUMIFS(I10:I90,E10:E90,D5,F10:F90,$I$1) -> 0
A8: Gate-/veinavn | B8: Fra | C8: Til | D8: Beskrivelse av strekning | E8: Eier/ drifter vei | F8: Dekke | G8: Lengde [m] | H8: Bredde veidekke [m] | I8: Areal [m2] | J8: Etablert/ Asfaltert År
A9: Melkevegen | B9: 1 | C9: Herkulesvn. | D9: Fra FV 477 (Hvamsmovn.) til krysset Herkulesvn. | E9: Nes kommune | F9: Asfalt | G9: 353.2 | H9: 7.5 | I9: =Tabell3[[#This Row],[Lengde '[m']]]*Tabell3[[#This Row],[Bredde veidekke '[m']]] -> 2649 | J9: 1999
A10: Melkevegen | B10: Herkulesvn. | C10: Polaris | D10: Mellom kryssene Herkulesvn. og Polarisvn. | E10: Nes kommune | F10: Asfalt | G10: 179.7 | H10: 7.5 | I10: =Tabell3[[#This Row],[Lengde '[m']]]*Tabell3[[#This Row],[Bredde veidekke '[m']]] -> 1347.75 | J10: 1999
A11: Melkevegen | B11: Polaris. | C11: Orionvn | D11: Mellom kryssene Polarisvn. og Orionvn. | E11: Nes kommune | F11: Asfalt | G11: 158 | H11: 7.5 | I11: =Tabell3[[#This Row],[Lengde '[m']]]*Tabell3[[#This Row],[Bredde veidekke '[m']]] -> 1185 | J11: 1999
A12: Melkevegen | B12: Orionvn. | C12: Geminivn. | D12: Mellom kryssene Orionvn. og Geminivn. | E12: Nes kommune | F12: Asfalt | G12: 189.8 | H12: 7.5 | I12: =Tabell3[[#This Row],[Lengde '[m']]]*Tabell3[[#This Row],[Bredde veidekke '[m']]] -> 1423.5 | J12: 1999
A13: Melkevegen | B13: Geminivn. | C13: Siriusvn. | D13: Mellom kryssene Geminivn. og Siriusvn. | E13: Nes kommune | F13: Asfalt | G13: 62.3 | H13: 7.5 | I13: =Tabell3[[#This Row],[Lengde '[m']]]*Tabell3[[#This Row],[Bredde veidekke '[m']]] -> 467.25 | J13: 1999
A14: Melkevegen | B14: Siriusvn. | C14: Pegasusvn. | D14: Mellom kryssene Siriusvn. og Pegasusvn. | E14: Nes kommune | F14: Asfalt | G14: 282.3 | H14: 7.5 | I14: =Tabell3[[#This Row],[Lengde '[m']]]*Tabell3[[#This Row],[Bredde veidekke '[m']]] -> 2117.25 | J14: 2010
A15: Melkevegen | B15: Pegasusvn. | C15: Jomfrustien | D15: Mellom kryssene Pegasusvn. og Jomfrustien. | E15: Nes kommune | F15: Asfalt | G15: 341.5 | H15: 7.5 | I15: =Tabell3[[#This Row],[Lengde '[m']]]*Tabell3[[#This Row],[Bredde veidekke '[m']]] -> 2561.25 | J15: 2010
A16: Melkevegen | B16: Jomfrustien | C16: Krepsen | D16: Mellom kryssene Jomfrustien og Krepsen. | E16: Nes kommune | F16: Asfalt | G16: 26.3 | H16: 7.5 | I16: =Tabell3[[#This Row],[Lengde '[m']]]*Tabell3[[#This Row],[Bredde veidekke '[m']]] -> 197.25 | J16: 2010
A17: Melkevegen | B17: Krepsen | C17: Enjhørningen | D17: Mellom kryssene Krepsen og Enhjørningen. | E17: Nes kommune | F17: Asfalt | G17: 91.6 | H17: 7.5 | I17: =Tabell3[[#This Row],[Lengde '[m']]]*Tabell3[[#This Row],[Bredde veidekke '[m']]] -> 687 | J17: 2010
A18: Melkevegen | B18: Enhjørningen | C18: Vekta | D18: Mellom kryssene Enhjørningen og Vekta. | E18: Nes kommune | F18: Asfalt | G18: 37.6 | H18: 7.5 | I18: =Tabell3[[#This Row],[Lengde '[m']]]*Tabell3[[#This Row],[Bredde veidekke '[m']]] -> 282 | J18: 2010
A19: Tellusvegen | D19: Fra Melkevn. og til skogbeltet med forbindelse til FV 477 (Hvamsmovn.). | E19: Nes kommune | F19: Asfalt | G19: 248.2 | H19: 5.5 | I19: =Tabell3[[#This Row],[Lengde '[m']]]*Tabell3[[#This Row],[Bredde veidekke '[m']]] -> 1365.1 | J19: 2008
A20: Idrettsplassen | D20: Fra Melkevn. til svingen ved fotballbane innenfor tennisbanen. | E20: Nes kommune | F20: Grus | G20: 261.1 | H20: 3.2 | I20: =Tabell3[[#This Row],[Lengde '[m']]]*Tabell3[[#This Row],[Bredde veidekke '[m']]] -> 835.52 | J20: 2000
A21: Idrettsplassen | D21: Forbi begge fotballbanene i retning mot tjernet. | E21: Nes kommune | F21: Grus | G21: 171.5 | H21: 3.2 | I21: =Tabell3[[#This Row],[Lengde '[m']]]*Tabell3[[#This Row],[Bredde veidekke '[m']]] -> 548.8 | J21: 2000
A22: Idrettsplassen | D22: Langs tjernet og mot/forbi velforeningens balløkke. | E22: Nes kommune | F22: Grus | G22: 130.5 | H22: 3.2 | I22: =Tabell3[[#This Row],[Lengde '[m']]]*Tabell3[[#This Row],[Bredde veidekke '[m']]] -> 417.6 | J22: 2017
A23: Idrettsplassen | D23: Ved Nes Arena. | E23: Nes kommune | F23: Grus | G23: 142.9 | H23: 3.2 | I23: =Tabell3[[#This Row],[Lengde '[m']]]*Tabell3[[#This Row],[Bredde veidekke '[m']]] -> 457.28
A24: Herkulesvegen | B24: 1 | C24: 110 | D24: Hovedstrekket fra Melkevn. og innover. | E24: Nes kommune | F24: Asfalt | G24: 317 | H24: 4.5 | I24: =Tabell3[[#This Row],[Lengde '[m']]]*Tabell3[[#This Row],[Bredde veidekke '[m']]] -> 1426.5 | J24: 1999
A25: Herkulesvegen | B25: 84 | C25: 108 | D25: Innerste stikkvei oppover i lia, inkl. snuhammer. | E25: Velforeningen | F25: Asfalt | G25: 188.3 | H25: 3.7 | I25: =Tabell3[[#This Row],[Lengde '[m']]]*Tabell3[[#This Row],[Bredde veidekke '[m']]] -> 696.71 | J25: 1999
A26: Herkulesvegen | B26: 30 | C26: 76 | D26: Midtre stikkvei oppover i lia, inkl. snuhammer. | E26: Velforeningen | F26: Asfalt | G26: 337.2 | H26: 3.4 | I26: =Tabell3[[#This Row],[Lengde '[m']]]*Tabell3[[#This Row],[Bredde veidekke '[m']]] -> 1146.48 | J26: 1999
A27: Herkulesvegen | B27: 2 | C27: 24 | D27: Første stikkvei nærmest Melkevn., langs denne, mot Orionvn, inkl. snuhammer. | E27: Velforeningen | F27: Asfalt | G27: 164.4 | H27: 3.8 | I27: =Tabell3[[#This Row],[Lengde '[m']]]*Tabell3[[#This Row],[Bredde veidekke '[m']]] -> 624.72 | J27: 1999
A28: Orionvegen | B28: 1 | C28: 100 | D28: Hovedstrekket fra Melkevn. og innover. | E28: Nes kommune | F28: Asfalt | G28: 612.8 | I28: =Tabell3[[#This Row],[Lengde '[m']]]*Tabell3[[#This Row],[Bredde veidekke '[m']]] -> 0 | J28: 1999
A29: Orionvegen | B29: 2 | C29: 20 | D29: Første stikkvei nærmest Melkevn., opp mot Geminivn. | E29: Nes kommune | F29: Asfalt | G29: 102.6 | I29: =Tabell3[[#This Row],[Lengde '[m']]]*Tabell3[[#This Row],[Bredde veidekke '[m']]] -> 0 | J29: 1999
A30: Orionvegen | B30: 8 | C30: 12 | D30: Innerste del av første stikkvei opp mot Geminivegen. | E30: Velforeningen | F30: Asfalt | G30: 19.4 | I30: =Tabell3[[#This Row],[Lengde '[m']]]*Tabell3[[#This Row],[Bredde veidekke '[m']]] -> 0 | J30: 1999
A31: Orionvegen | B31: 22 | C31: 46 | D31: Midtre stikkvei opp mot Geminivn. | E31: Nes kommune | F31: Asfalt | G31: 75.3 | I31: =Tabell3[[#This Row],[Lengde '[m']]]*Tabell3[[#This Row],[Bredde veidekke '[m']]] -> 0 | J31: 1999
A32: Orionvegen | B32: 26 | C32: 40 | D32: Innerst i midtre stikkvei opp mot Geminivn. | E32: Velforeningen | F32: Asfalt | G32: 55.8 | I32: =Tabell3[[#This Row],[Lengde '[m']]]*Tabell3[[#This Row],[Bredde veidekke '[m']]] -> 0 | J32: 1999
A33: Orionvegen | B33: 48 | C33: 70 | D33: Innerste stikkvei opp mot Geminivn. | E33: Nes kommune | F33: Asfalt | G33: 125.5 | I33: =Tabell3[[#This Row],[Lengde '[m']]]*Tabell3[[#This Row],[Bredde veidekke '[m']]] -> 0 | J33: 1999
A34: Orionvegen | B34: 1 | C34: 21 | D34: Første stikkvei fra Melkevn., ned mot Herkulsevn., gjennom Orionvegen sameie. | E34: Sameier | F34: Asfalt | G34: 186.1 | I34: =Tabell3[[#This Row],[Lengde '[m']]]*Tabell3[[#This Row],[Bredde veidekke '[m']]] -> 0 | J34: 1999
A35: Geminivegen | B35: 1 | C35: 104 | D35: Hovedstrekket fra Melkevn. og innover. | E35: Nes kommune | F35: Asfalt | G35: 480 | I35: =Tabell3[[#This Row],[Lengde '[m']]]*Tabell3[[#This Row],[Bredde veidekke '[m']]] -> 0 | J35: 1999
A36: Geminivegen | B36: 86 | C36: 100 | D36: 5. stikkvei opp mot B4/ Pegasusvegen, talt opp fra Melkevn., inn til nr. 88 og nr. 96. | E36: Nes kommune | F36: Asfalt | G36: 59 | I36: =Tabell3[[#This Row],[Lengde '[m']]]*Tabell3[[#This Row],[Bredde veidekke '[m']]] -> 0 | J36: 1999
A37: Geminivegen | B37: 88 | C37: 94 | D37: Innerst i 5. stikkvei opp mot B4/ Pegasusvegen, innenfor nr. 88 og nr. 96. | E37: Velforeningen | F37: Asfalt | G37: 27.5 | I37: =Tabell3[[#This Row],[Lengde '[m']]]*Tabell3[[#This Row],[Bredde veidekke '[m']]] -> 0 | J37: 1999
A38: Geminivegen | B38: 78 | C38: 84 | D38: 4. stikkvei opp mot B4/ Pegasusvegen, talt opp fra Melkevn. | E38: Nes kommune | F38: Asfalt | G38: 76.5 | I38: =Tabell3[[#This Row],[Lengde '[m']]]*Tabell3[[#This Row],[Bredde veidekke '[m']]] -> 0 | J38: 1999
A39: Geminivegen | B39: 46 | C39: 76 | D39: 3. stikkvei opp mot B4/ Pegasusvegen, talt opp fra Melkevn., opp til nr. 50 og nr. 62. | E39: Nes kommune | F39: Asfalt | G39: 112.3 | I39: =Tabell3[[#This Row],[Lengde '[m']]]*Tabell3[[#This Row],[Bredde veidekke '[m']]] -> 0 | J39: 1999
... A42: Geminivegen | B42: 22 | C42: 44 | D42: 2. stikkvei opp mot B4/ Pegasusvegen, talt opp fra Melkevn., til innenfor nr. 36. | E42: Nes kommune | F42: Asfalt | G42: 154 | I42: =Tabell3[[#This Row],[Lengde '[m']]]*Tabell3[[#This Row],[Bredde veidekke '[m']]] -> 0 | J42: 1999
A43: Geminivegen | B43: 30A | C43: 34D | D43: Innerst i 2. stikkvei opp mot B4/ Pegasusvegen, i Orionsvingen sameie. | E43: Sameier | F43: Asfalt | G43: 25.5 | I43: =Tabell3[[#This Row],[Lengde '[m']]]*Tabell3[[#This Row],[Bredde veidekke '[m']]] -> 0
A44: Geminivegen | B44: 10 | C44: 14 | D44: Innerst i første stikkvei opp mot B4/ Kjølen. | E44: Nes kommune | F44: Asfalt | G44: 28.7 | I44: =Tabell3[[#This Row],[Lengde '[m']]]*Tabell3[[#This Row],[Bredde veidekke '[m']]] -> 0 | J44: 1999
A45: Geminivegen | B45: 2 | C45: 8 | D45: Første stikkvei opp mot B4/ Kjølen. | E45: Nes kommune | F45: Asfalt | G45: 152.1 | I45: =Tabell3[[#This Row],[Lengde '[m']]]*Tabell3[[#This Row],[Bredde veidekke '[m']]] -> 0 | J45: 1999
A46: Geminivegen | B46: 1 | C46: 23 | D46: Første stikkvei fra Melkevn., ned mot Orionvn., gjennom Geminiveien sameie. | E46: Velforeningen | F46: Asfalt | G46: 165.4 | I46: =Tabell3[[#This Row],[Lengde '[m']]]*Tabell3[[#This Row],[Bredde veidekke '[m']]] -> 0 | J46: 1999
A47: Polarisvegen | B47: 19 | C47: 47 | D47: 2. stikkvei fra kommunal del av Polarisvegen, opp til Siriusvegen. | E47: Velforeningen | F47: Asfalt | G47: 171.3 | I47: =Tabell3[[#This Row],[Lengde '[m']]]*Tabell3[[#This Row],[Bredde veidekke '[m']]] -> 0 | J47: 1999
A48: Polarisvegen | B48: 2 | C48: 8 | D48: Første stikkvei, nærmest Melkevn., ned mot Hvamsmovegen. | E48: Nes kommune | F48: Asfalt | G48: 56.8 | I48: =Tabell3[[#This Row],[Lengde '[m']]]*Tabell3[[#This Row],[Bredde veidekke '[m']]] -> 0 | J48: 1999
A49: Polarisvegen | B49: 2 | C49: 6 | D49: Innerst i først stikkvei ned mot Hvamsmovegen, i Neskollen Sameie 2. | E49: Sameier | F49: Asfalt | G49: 78 | I49: =Tabell3[[#This Row],[Lengde '[m']]]*Tabell3[[#This Row],[Bredde veidekke '[m']]] -> 0
A50: Polarisvegen | B50: 1 | C50: 65 | D50: Hovedstrekket fra Melkevn. og innover. | E50: Nes kommune | F50: Asfalt | G50: 454 | I50: =Tabell3[[#This Row],[Lengde '[m']]]*Tabell3[[#This Row],[Bredde veidekke '[m']]] -> 0 | J50: 1999
A51: Polarisvegen | B51: 1 | C51: 11 | D51: Første stikkkvei nærmest Melkevn., mot Siriusvn., opp mot stengsel ved nr. 9/11. | E51: Velforeningen | F51: Asfalt | G51: 122.6 | I51: =Tabell3[[#This Row],[Lengde '[m']]]*Tabell3[[#This Row],[Bredde veidekke '[m']]] -> 0 | J51: 1999
A52: Polarisvegen | B52: 29 | C52: 31 | D52: Avstikker fra 2. stikkvei opp mot Siriusvn, forbi lekeplass og ned til stengsel mellom nr. 9/11 og nr. 29. | E52: Velforeningen | F52: Asfalt | G52: 63.3 | I52: =Tabell3[[#This Row],[Lengde '[m']]]*Tabell3[[#This Row],[Bredde veidekke '[m']]] -> 0 | J52: 1999
A53: Siriusvegen | B53: 1 | C53: 12 | D53: Hele veien, mellom Melkevn. og Polarisvn. | E53: Velforeningen | F53: Oljegrus | G53: 204.6 | I53: =Tabell3[[#This Row],[Lengde '[m']]]*Tabell3[[#This Row],[Bredde veidekke '[m']]] -> 0 | J53: 1999
A54: Pegasusvn. | B54: 1 | C54: 65 | D54: Hovedstrekket fra Melkevn. inn til Fønikslia/Løvebakken. | E54: Nes kommune | F54: Asfalt | G54: 570 | I54: =Tabell3[[#This Row],[Lengde '[m']]]*Tabell3[[#This Row],[Bredde veidekke '[m']]] -> 0 | J54: 2010
A55: Pegasusvn. | B55: 13 | C55: 31 | D55: Avstikkeren inn til nr. 13 til 31. | E55: Velforeningen | F55: Asfalt | G55: 142.4 | I55: =Tabell3[[#This Row],[Lengde '[m']]]*Tabell3[[#This Row],[Bredde veidekke '[m']]] -> 0 | J55: 2010
A56: Pegasusvn. | B56: 41 | C56: 51 | D56: Avstikkeren inn til nr. 41 til 51. | E56: Velforeningen | F56: Asfalt | G56: 74.7 | I56: =Tabell3[[#This Row],[Lengde '[m']]]*Tabell3[[#This Row],[Bredde veidekke '[m']]] -> 0 | J56: 2010
A57: Pegasusvn. | B57: 53 | C57: 65 | D57: Avstikkeren inn til nr. 53 til 65, i Pegasusvegen Sameie. | E57: Sameier | F57: Asfalt | G57: 78 | I57: =Tabell3[[#This Row],[Lengde '[m']]]*Tabell3[[#This Row],[Bredde veidekke '[m']]] -> 0 | J57: 2010
A58: Kjølen | B58: 1 | C58: 25 | D58: Hovedstrekket fra Pegasusvn. og til innerst, ved nr. 25, i Øvre Neskollen Kjølen Boligsameie. | E58: Sameier | F58: Asfalt | G58: 164.5 | I58: =Tabell3[[#This Row],[Lengde '[m']]]*Tabell3[[#This Row],[Bredde veidekke '[m']]] -> 0 | J58: 2010
A59: Kjølen | B59: 14 | C59: 20 | D59: Avstikker til nr. 14, 16, 18 og 20, rett ved lekeplass, i Øvre Neskollen Kjølen Boligsameie. | E59: Sameier | F59: Asfalt | G59: 44.5 | I59: =Tabell3[[#This Row],[Lengde '[m']]]*Tabell3[[#This Row],[Bredde veidekke '[m']]] -> 0 | J59: 2010
A60: Skorpionen | B60: 1 | C60: 16 | D60: Hovedstrekket fra Pegasusvn. til nr 16. | E60: Nes kommune | F60: Asfalt | G60: 133.8 | I60: =Tabell3[[#This Row],[Lengde '[m']]]*Tabell3[[#This Row],[Bredde veidekke '[m']]] -> 0 | J60: 2010
A61: Skorpionen | B61: 14 | C61: 19 | D61: Start på innkjøringen til nr. 9 til 19. | E61: Nes kommune | F61: Asfalt | G61: 14.7 | I61: =Tabell3[[#This Row],[Lengde '[m']]]*Tabell3[[#This Row],[Bredde veidekke '[m']]] -> 0 | J61: 2010
A62: Skorpionen | B62: 13 | C62: 43 | D62: Innerste del av Skorpionen (79/315) | E62: Velforeningen | F62: Asfalt | G62: 153.7 | I62: =Tabell3[[#This Row],[Lengde '[m']]]*Tabell3[[#This Row],[Bredde veidekke '[m']]] -> 0 | J62: 2010
A63: Skorpionen | B63: 19 | C63: 17 | D63: Avstikker til nr. 9, 11, 13, 15, 17 og 19 (79/316). | E63: Velforeningen | F63: Asfalt | G63: 45.9 | I63: =Tabell3[[#This Row],[Lengde '[m']]]*Tabell3[[#This Row],[Bredde veidekke '[m']]] -> 0 | J63: 2010
A64: Skorpionen | B64: 5 | C64: 7 | D64: Avstikker til nr.5 og 7 (79/374). | E64: Velforeningen | F64: Asfalt | G64: 51.4 | I64: =Tabell3[[#This Row],[Lengde '[m']]]*Tabell3[[#This Row],[Bredde veidekke '[m']]] -> 0 | J64: 2010
A65: Jomfrustien | B65: 1 | C65: 11 | D65: Hele veien fra Melkevn. | E65: Velforeningen | F65: Asfalt | G65: 147.5 | I65: =Tabell3[[#This Row],[Lengde '[m']]]*Tabell3[[#This Row],[Bredde veidekke '[m']]] -> 0 | J65: 2010
A66: Ørnestubben | B66: 1 | C66: 15 | D66: Hele veien fra Pegasusvn. | E66: Velforeningen | F66: Asfalt | G66: 145.1 | I66: =Tabell3[[#This Row],[Lengde '[m']]]*Tabell3[[#This Row],[Bredde veidekke '[m']]] -> 0 | J66: 2010
A67: Vekta | B67: 1 | C67: 30 | D67: Hovedstrekket rett inn fra Melkevn. | E67: Nes kommune | F67: Asfalt | G67: 220.8 | I67: =Tabell3[[#This Row],[Lengde '[m']]]*Tabell3[[#This Row],[Bredde veidekke '[m']]] -> 0 | J67: 2015
A68: Vekta | B68: 24 | C68: 28 | D68: Avstikkeren innerst, ved nr. 28 og 30. | E68: Velforeningen | F68: Asfalt | G68: 34.2 | I68: =Tabell3[[#This Row],[Lengde '[m']]]*Tabell3[[#This Row],[Bredde veidekke '[m']]] -> 0 | J68: 2015
A69: Vekta | B69: 2 | C69: 12 | D69: Avstikkeren vestover fra hovedstrekket. | E69: Velforeningen | F69: Asfalt | G69: 95.8 | I69: =Tabell3[[#This Row],[Lengde '[m']]]*Tabell3[[#This Row],[Bredde veidekke '[m']]] -> 0 | J69: 2015
A70: Vekta | B70: 1 | C70: 11 | D70: Avstikkeren østover fra hovedstrekket. | E70: Velforeningen | F70: Asfalt | G70: 99.4 | I70: =Tabell3[[#This Row],[Lengde '[m']]]*Tabell3[[#This Row],[Bredde veidekke '[m']]] -> 0 | J70: 2015
A71: Løvebakken | D71: Hele veien fra krysset Pegasusvn./Fønikslia. | E71: Nes kommune | F71: Asfalt | G71: 226.8 | I71: =Tabell3[[#This Row],[Lengde '[m']]]*Tabell3[[#This Row],[Bredde veidekke '[m']]] -> 0 | J71: 2010
A72: Fønikslia | D72: Hele veien fra krysset Pegasusvn./Løvebakken. | E72: Nes kommune | F72: Asfalt | G72: 147.7 | I72: =Tabell3[[#This Row],[Lengde '[m']]]*Tabell3[[#This Row],[Bredde veidekke '[m']]] -> 0 | J72: 2010
A73: Vinkelhaken | D73: Hele veien fra Pegasusvn., forbi nr. 17 og inn til nr. 11. | E73: Velforeningen | F73: Asfalt | G73: 286.1 | I73: =Tabell3[[#This Row],[Lengde '[m']]]*Tabell3[[#This Row],[Bredde veidekke '[m']]] -> 0 | J73: 2010
A74: Skytten | B74: 2 | C74: 8 | D74: Fra overgangen fra Melkevn. til helt inners, ved nr. 8. | E74: Velforeningen | F74: Asfalt | G74: 124.8 | I74: =Tabell3[[#This Row],[Lengde '[m']]]*Tabell3[[#This Row],[Bredde veidekke '[m']]] -> 0 | J74: 2015
A75: Enhjørningen | B75: 1 | C75: 24 | D75: Fra Melkevn. og gjennom svingen ved nr. 5/18 og inn mot nr. 24. | E75: Velforeningen | F75: Asfalt | G75: 152.2 | I75: =Tabell3[[#This Row],[Lengde '[m']]]*Tabell3[[#This Row],[Bredde veidekke '[m']]] -> 0 | J75: 2015
A76: Enhjørningen | B76: 8 | C76: 12 | D76: Fra svingen ved nr. 8 og inn til nr. 12. | E76: Velforeningen | F76: Asfalt | G76: 74.1 | I76: =Tabell3[[#This Row],[Lengde '[m']]]*Tabell3[[#This Row],[Bredde veidekke '[m']]] -> 0 | J76: 2015
A77: Krepsen | B77: 1 | C77: 9 | D77: Fra Melkevn. og inn til mellom nr. 42 og nr. 9. | E77: Nes kommune | F77: Asfalt | G77: 159.3 | I77: =Tabell3[[#This Row],[Lengde '[m']]]*Tabell3[[#This Row],[Bredde veidekke '[m']]] -> 0 | J77: 2015
A78: Krepsen | B78: 26 | C78: 42 | D78: Fra nr. 9, ved nr. 42 og inn til nr. 36. (forbi partallene fra nr. 26 til 42). | E78: Velforeningen | F78: Asfalt | G78: 117.9 | I78: =Tabell3[[#This Row],[Lengde '[m']]]*Tabell3[[#This Row],[Bredde veidekke '[m']]] -> 0 | J78: 2015
A79: Krepsen | B79: 12 | C79: 18 | D79: Avstikkeren ved nr. 12, anokmst til partallene fra nr. 12 til nr. 24. | E79: Velforeningen | F79: Asfalt | G79: 77.5 | I79: =Tabell3[[#This Row],[Lengde '[m']]]*Tabell3[[#This Row],[Bredde veidekke '[m']]] -> 0 | J79: 2015
A80: Krepsen | B80: 2 | C80: 8 | D80: Avstikkeren ved nr. 2, innkjøring til partall nr. 2 til og med nr. 10. | E80: Velforeningen | F80: Asfalt | G80: 53.9 | I80: =Tabell3[[#This Row],[Lengde '[m']]]*Tabell3[[#This Row],[Bredde veidekke '[m']]] -> 0 | J80: 2015
A81: Jupitervegen | D81: Fra Melkevn. og ned til utkjøring til FV 477 (Hvamsmovn.). | E81: Nes kommune | F81: Asfalt | G81: 876.4 | I81: =Tabell3[[#This Row],[Lengde '[m']]]*Tabell3[[#This Row],[Bredde veidekke '[m']]] -> 0 | J81: 2017
A82: Sekstanten | D82: Første stikkveien talt fra Melkevn., lengste utstrekning mot sør. | E82: Nes kommune | F82: Asfalt | G82: 176.2 | I82: =Tabell3[[#This Row],[Lengde '[m']]]*Tabell3[[#This Row],[Bredde veidekke '[m']]] -> 0 | J82: 2017
A83: Sekstanten | D83: Avstikker mot øst innerst i første stikkvei talt fra Melkevn. | E83: Nes kommune | F83: Asfalt | G83: 28.3 | I83: =Tabell3[[#This Row],[Lengde '[m']]]*Tabell3[[#This Row],[Bredde veidekke '[m']]] -> 0 | J83: 2017
A84: Sekstanten | D84: Første avstikker mot øst på første stikkvei talt fra Melkevn. | E84: Velforeningen | F84: Asfalt | G84: 141.1 | I84: =Tabell3[[#This Row],[Lengde '[m']]]*Tabell3[[#This Row],[Bredde veidekke '[m']]] -> 0 | J84: 2017
A85: Jupitervegen | D85: Andre stikkvei talt fra Melkevn. (mot nord). | E85: Velforeningen | F85: Asfalt | G85: 57.1 | I85: =Tabell3[[#This Row],[Lengde '[m']]]*Tabell3[[#This Row],[Bredde veidekke '[m']]] -> 0 | J85: 2017
A86: Plutosvingen | D86: Tredje stikkvei ned fra Melkevn. (mot sør). | E86: Velforeningen | F86: Asfalt | G86: 187.8 | I86: =Tabell3[[#This Row],[Lengde '[m']]]*Tabell3[[#This Row],[Bredde veidekke '[m']]] -> 0 | J86: 2017
A87: Jupitervegen | D87: Siste/fjerde stikkvei ned fra Melkeven. | E87: Velforeningen | F87: Asfalt | G87: 107.8 | I87: =Tabell3[[#This Row],[Lengde '[m']]]*Tabell3[[#This Row],[Bredde veidekke '[m']]] -> 0 | J87: 2017
A88: Tellusvegen | B88: 10 | C88: 28 | D88: Inn til nr. 10 til og med nr. 28, i sameiet. | E88: Sameier | F88: Asfalt | G88: 423.9 | I88: =Tabell3[[#This Row],[Lengde '[m']]]*Tabell3[[#This Row],[Bredde veidekke '[m']]] -> 0
I89: =Tabell3[[#This Row],[Lengde '[m']]]*Tabell3[[#This Row],[Bredde veidekke '[m']]] -> 0
G90: =SUBTOTAL(109,Tabell3[Lengde '[m']]) -> 13007.6
K92: =SUMIFS(#REF!,Tabell3[Eier/ drifter vei],$I$95) -> #REF! | L92: =SUMIFS(#REF!,Tabell3[Eier/ drifter vei],$I$95) -> #REF! | M92: =SUMIFS(#REF!,Tabell3[Eier/ drifter vei],$I$95) -> #REF! | N92: =SUMIFS(#REF!,Tabell3[Eier/ drifter vei],$I$95) -> #REF! | O92: =SUMIFS(#REF!,Tabell3[Eier/ drifter vei],$I$95) -> #REF! | P92: =SUMIFS(#REF!,Tabell3[Eier/ drifter vei],$I$95) -> #REF! | Q92: =SUMIFS(#REF!,Tabell3[Eier/ drifter vei],$I$95) -> #REF! | R92: =SUMIFS(#REF!,Tabell3[Eier/ drifter vei],$I$95) -> #REF! | ... AG92: =SUMIFS(#REF!,Tabell3[Eier/ drifter vei],$I$95) -> #REF!
K93: =SUMIFS(#REF!,Tabell3[Eier/ drifter vei],$I$96) -> #REF! | L93: =SUMIFS(#REF!,Tabell3[Eier/ drifter vei],$I$96) -> #REF! | M93: =SUMIFS(#REF!,Tabell3[Eier/ drifter vei],$I$96) -> #REF! | N93: =SUMIFS(#REF!,Tabell3[Eier/ drifter vei],$I$96) -> #REF! | O93: =SUMIFS(#REF!,Tabell3[Eier/ drifter vei],$I$96) -> #REF! | P93: =SUMIFS(#REF!,Tabell3[Eier/ drifter vei],$I$96) -> #REF! | Q93: =SUMIFS(#REF!,Tabell3[Eier/ drifter vei],$I$96) -> #REF! | R93: =SUMIFS(#REF!,Tabell3[Eier/ drifter vei],$I$96) -> #REF! | ... Y93: =SUMIFS(#REF!,Tabell3[Eier/ drifter vei],$I$96) -> #REF! | Z93: =SUMIFS(#REF!,#REF!,$I$96) -> #REF! | AA93: =SUMIFS(#REF!,Tabell3[Eier/ drifter vei],$I$96) -> #REF! | AB93: =SUMIFS(#REF!,Tabell3[Eier/ drifter vei],$I$96) -> #REF! | AC93: =SUMIFS(#REF!,Tabell3[Eier/ drifter vei],$I$96) -> #REF! | AD93: =SUMIFS(#REF!,Tabell3[Eier/ drifter vei],$I$96) -> #REF! | AE93: =SUMIFS(#REF!,Tabell3[Eier/ drifter vei],$I$96) -> #REF! | AF93: =SUMIFS(#REF!,Tabell3[Eier/ drifter vei],$I$96) -> #REF! | AG93: =SUMIFS(#REF!,Tabell3[Eier/ drifter vei],$I$96) -> #REF!
I95: Nes kommune | J95: =SUMIFS(#REF!,Tabell3[Eier/ drifter vei],$I$95) -> #REF!
I96: Velforeningen | J96: =SUMIFS(#REF!,Tabell3[Eier/ drifter vei],$I$96) -> #REF!

Sheet Lysoversikt
B7: Vei | C7: Nr. | D7: Type | E7: Etbl. | F7: Ansvar | G7: Lgd. fra koblingsskap [m] | H7: Lgd. til/fra neste/forrige lyktestolpe [m] | I7: Kommentar
B8: Gangvei idrettsanlegg | C8: 1 | D8: Halogen | E8: 2000 | F8: Nesk. velforening
B9: Gangvei idrettsanlegg | C9: 2 | D9: Halogen | E9: 2000 | F9: Nes kommune
B10: Gangvei idrettsanlegg | C10: 3 | D10: Halogen | E10: 2000 | F10: Hvam IL
B11: Gangvei idrettsanlegg | C11: 4 | D11: Halogen | E11: 2000
B12: Gangvei idrettsanlegg | C12: 5 | D12: Halogen | E12: 2000
B13: Gangvei idrettsanlegg | C13: 6 | D13: Halogen | E13: 2000
B14: Gangvei idrettsanlegg | C14: 7 | D14: Halogen | E14: 2000
B15: Gangvei idrettsanlegg | C15: 8 | D15: Halogen | E15: 2000
B16: Gangvei idrettsanlegg | C16: 9 | D16: Halogen | E16: 2000
B17: Gangvei idrettsanlegg | C17: 10 | D17: Halogen | E17: 2000
B18: Gangvei idrettsanlegg | C18: 11 | D18: Halogen | E18: 2000
B19: Gangvei idrettsanlegg | C19: 12 | D19: Halogen | E19: 2000
B20: Gangvei idrettsanlegg | C20: 13 | D20: Halogen | E20: 2000
B21: Gangvei idrettsanlegg | C21: 14 | D21: Halogen | E21: 2000
B22: Gangvei idrettsanlegg | C22: 15 | D22: Halogen | E22: 2000
... B39: Gangvei idrettsanlegg | C39: 32 | D39: Halogen | E39: 2000
B40: Herkulesvegen 84 - 108 | C40: 1 | D40: Halogen | E40: 2000 | F40: Nesk. velforening
B41: Herkulesvegen 84 - 108 | C41: 2 | D41: Halogen | E41: 2000 | F41: Nesk. velforening
B42: Herkulesvegen 84 - 108 | C42: 3 | D42: Halogen | E42: 2000 | F42: Nesk. velforening
B43: Herkulesvegen 84 - 108 | C43: 4 | D43: Halogen | E43: 2000 | F43: Nesk. velforening
B44: Herkulesvegen 84 - 108 | C44: 5 | D44: Halogen | E44: 2000 | F44: Nesk. velforening
B45: Herkulesvegen 84 - 108 | C45: 6 | D45: Halogen | E45: 2000 | F45: Nesk. velforening
B46: Herkulesvegen 84 - 108 | C46: 7 | D46: Halogen | E46: 2000 | F46: Nesk. velforening
B47: Herkulesvegen 84 - 108 | C47: 8 | D47: Halogen | E47: 2000 | F47: Nesk. velforening
B48: Herkulesvegen 84 - 108 | C48: 9 | D48: Halogen | E48: 2000 | F48: Nesk. velforening
B49: Herkulesvegen 30 - 76 | C49: 1 | D49: Halogen | E49: 2000 | F49: Nesk. velforening
B50: Herkulesvegen 30 - 76 | C50: 2 | D50: Halogen | E50: 2000 | F50: Nesk. velforening
B51: Herkulesvegen 30 - 76 | C51: 3 | D51: Halogen | E51: 2000 | F51: Nesk. velforening
... B141: Jomfrustien | C141: 4 | D141: Halogen | E141: 2010 | F141: Nesk. velforening
B142: Enhjørningen | C142: 1 | D142: LED | E142: 2015
B143: Enhjørningen | C143: 2 | D143: LED | E143: 2015
B144: Enhjørningen | C144: 3 | D144: LED | E144: 2015
B145: Enhjørningen | C145: 4 | D145: LED | E145: 2015
B146: Enhjørningen | C146: 5 | D146: LED | E146: 2015
B147: Enhjørningen | C147: 6 | D147: LED | E147: 2015
B148: Enhjørningen | C148: 7 | D148: LED | E148: 2015
B149: Enhjørningen | C149: 8 | D149: LED | E149: 2015
B150: Skytten | C150: 1 | D150: LED | E150: 2015
B151: Skytten | C151: 2 | D151: LED | E151: 2015
B152: Skytten | C152: 3 | D152: LED | E152: 2015
B153: Skytten | C153: 4 | D153: LED | E153: 2015
... B192: Akebakken | C192: 8 | D192: Halogen | E192: 2008
B193: Antall lys | C193: =COUNTIF(C8:C192,">=1") -> 185
K197: 2018 | L197: 2019 | M197: 2020 | N197: 2021 | O197: 2022 | P197: 2023 | Q197: 2024 | R197: 2025 | S197: 2026 | T197: 2027 | U197: 2028 | V197: 2029 | W197: 2030 | X197: 2031 | Y197: 2032 | Z197: 2033 | AA197: 2034 | AB197: 2035 | AC197: 2036 | AD197: 2037 | AE197: 2038 | AF197: 2039 | AG197: 2040
J198: Veglys | K198: =SUMIFS(Lysoversikt!$G$8:$G$192,Lysoversikt!$F$8:$F$192,K197) -> 0 | L198: =SUMIFS(Lysoversikt!$G$8:$G$192,Lysoversikt!$F$8:$F$192,L197) -> 0 | M198: =SUMIFS(Lysoversikt!$G$8:$G$192,Lysoversikt!$F$8:$F$192,M197) -> 0 | N198: =SUMIFS(Lysoversikt!$G$8:$G$192,Lysoversikt!$F$8:$F$192,N197) -> 0 | O198: =SUMIFS(Lysoversikt!$G$8:$G$192,Lysoversikt!$F$8:$F$192,O197) -> 0 | P198: =SUMIFS(Lysoversikt!$G$8:$G$192,Lysoversikt!$F$8:$F$192,P197) -> 0 | Q198: =SUMIFS(Lysoversikt!$G$8:$G$192,Lysoversikt!$F$8:$F$192,Q197) -> 0 | R198: =SUMIFS(Lysoversikt!$G$8:$G$192,Lysoversikt!$F$8:$F$192,R197) -> 0 | ... AG198: =SUMIFS(Lysoversikt!$G$8:$G$192,Lysoversikt!$F$8:$F$192,AG197) -> 0
J199: Antall lys | K199: =COUNTIFS($C$8:$C$192,">=1",$F$8:$F$192,K197) -> 0 | L199: =COUNTIFS($C$8:$C$192,">=1",$F$8:$F$192,L197) -> 0 | M199: =COUNTIFS($C$8:$C$192,">=1",$F$8:$F$192,M197) -> 0 | N199: =COUNTIFS($C$8:$C$192,">=1",$F$8:$F$192,N197) -> 0 | O199: =COUNTIFS($C$8:$C$192,">=1",$F$8:$F$192,O197) -> 0 | P199: =COUNTIFS($C$8:$C$192,">=1",$F$8:$F$192,P197) -> 0 | Q199: =COUNTIFS($C$8:$C$192,">=1",$F$8:$F$192,Q197) -> 0 | R199: =COUNTIFS($C$8:$C$192,">=1",$F$8:$F$192,R197) -> 0 | ... AG199: =COUNTIFS($C$8:$C$192,">=1",$F$8:$F$192,AG197) -> 0
J200: Asfalt | K200: =SUMIFS(Lysoversikt!$H$8:$H$192,Lysoversikt!$G$8:$G$192,J200) -> 0
J201: Lekeplasser | K201: =F196 -> 0 | L201: =G196 -> 0 | M201: =H196 -> 0 | N201: =F199 -> 0 | O201: =K198 -> 0 | P201: =L198 -> 0 | Q201: =M198 -> 0 | R201: =N198 -> 0 | S201: =O198 -> 0 | T201: =P198 -> 0 | U201: =Q198 -> 0 | V201: =R198 -> 0 | ... AG201: =AC198 -> 0

Sheet Illustrasjoner
C1: Melkevegen, fra FV 477 (Hvamsmovn.) til krysset Herkulesvn. (Klikk på illustrasjonen for å komme tilbake til aktuell oversikt).
C2: Melkevegen, mellom kryssene Herkulesvn. og Polarisvn. (Klikk på illustrasjonen for å komme tilbake til aktuell oversikt).
C3: Melkevegne, mellom kryssene Polarisvn. og Orionvn. (Klikk på illustrasjonen for å komme tilbake til aktuell oversikt).
C4: Melkevegen, mellom kryssene Orionvn. og Geminivn. (Klikk på illustrasjonen for å komme tilbake til aktuell oversikt).
C5: Melkevegen, mellom kryssene Geminivn. og Siriusvn. (Klikk på illustrasjonen for å komme tilbake til aktuell oversikt).
C6: Melkevegen, mellom kryssene Siriusvn. og Pegasusvn. (Klikk på illustrasjonen for å komme tilbake til aktuell oversikt).
C7: Melkevegen, mellom kryssene Pegasusvn. og Jomfrustien. (Klikk på illustrasjonen for å komme tilbake til aktuell oversikt).
C8: Melkevegen, mellom kryssene Jomfrustien og Krepsen.. (Klikk på illustrasjonen for å komme tilbake til aktuell oversikt).
C9: Melkevegen, mellom kryssene Krepsen og Enhjørningen.. (Klikk på illustrasjonen for å komme tilbake til aktuell oversikt).
C10: Melkevegen, mellom kryssene Enhjørningen og Vekta.. (Klikk på illustrasjonen for å komme tilbake til aktuell oversikt).
C11: Tellusvegen, fra Melkevn. og til skogbeltet med forbindelse til FV 477 (Hvamsmovn.).. (Klikk på illustrasjonen for å komme tilbake til aktuell oversikt).
C12: Idrettsplassen, fra Melkevn. til svingen ved fotballbane innenfor tennisbanen.. (Klikk på illustrasjonen for å komme tilbake til aktuell oversikt).
... C79: Polarisvegen 2 - 6, innerst i første stikkvei ned mot Hvamsmovegen, i Neskollen Sameie 2.. (Klikk på illustrasjonen for å komme tilbake til aktuell oversikt).
